BEGIN:VCALENDAR
VERSION:2.0
PRODID:-//Eesti Ehitusettevõtjate Liit - ECPv6.15.20//NONSGML v1.0//EN
CALSCALE:GREGORIAN
METHOD:PUBLISH
X-WR-CALNAME:Eesti Ehitusettevõtjate Liit
X-ORIGINAL-URL:https://uus.eeel.ee
X-WR-CALDESC:Events for Eesti Ehitusettevõtjate Liit
REFRESH-INTERVAL;VALUE=DURATION:PT1H
X-Robots-Tag:noindex
X-PUBLISHED-TTL:PT1H
BEGIN:VTIMEZONE
TZID:UTC
BEGIN:STANDARD
TZOFFSETFROM:+0000
TZOFFSETTO:+0000
TZNAME:UTC
DTSTART:20250101T000000
END:STANDARD
END:VTIMEZONE
BEGIN:VEVENT
DTSTART;TZID=UTC:20260422T080000
DTEND;TZID=UTC:20260422T084500
DTSTAMP:20260423T083724
CREATED:20260421T130507Z
LAST-MODIFIED:20260423T065722Z
UID:793-1776844800-1776847500@uus.eeel.ee
SUMMARY:Kindlustunde kompass: otseallikast tööandjale
DESCRIPTION:Eesti Tööandjate Keskliidu veebikohtumise aprillikuu teema on "Tsiviilvalmisolek ja kriisideks ettevalmistus". Arutelu keskmes on tööandjate roll ühiskondlikus tsiviilvalmisolekus\, ettevõtete valmisolek kriisiolukordadeks ning riigi ootused ettevõtjatele varude\, infovahetuse ja personali kaasamise vaates. Esinevad Päästeameti ennetustöö osakonna juht Janika Usin ja Siseministeeriumi kriisivalmiduse osakonna nõunik Marrieliisa Rullinkoff. Veebikohtumine toimub kell 08.00-08.45. \nKorraldaja: Eesti Tööandjate Keskliit \nRegistreerumine: forms.gle/ReZK4yKKrQxwXdP17
URL:https://uus.eeel.ee/syndmus/kindlustunde-kompass-otseallikast-tooandjale-2/
CATEGORIES:Seminar
END:VEVENT
BEGIN:VEVENT
DTSTART;TZID=UTC:20260427T090000
DTEND;TZID=UTC:20260427T110000
DTSTAMP:20260423T083724
CREATED:20260421T130507Z
LAST-MODIFIED:20260423T065722Z
UID:794-1777280400-1777287600@uus.eeel.ee
SUMMARY:Energiakandjate kaalumistegurite uuendamise uuringu 2. vahetulemuste tutvustus
DESCRIPTION:Kliimaministeerium kutsub osalema veebiseminaril\, kus TalTechi eksperdid tutvustavad uuringu "Energiakandjate kaalumistegurite uuendamine" seniseid tulemusi. Uuringu eesmärk on vaadata üle kehtivad kaalumistegurid ja teha ettepanekud nende ajakohastamiseks. Seminaril käsitletakse muu hulgas KHG heitetegureid\, energiakulu arvutustele tuginevaid kaalumistegurite ettepanekuid ning tõhusa gaasikütte käsitlust olemasolevate hoonete energiamärgistes. Üritus toimub kell 09.00-11.00 Teamsis. \nKorraldaja: Kliimaministeerium koostöös TalTechiga \nRegistreerumine: forms.office.com/e/mXmpHEvURi
URL:https://uus.eeel.ee/syndmus/energiakandjate-kaalumistegurite-uuendamise-uuringu-2-vahetulemuste-tutvustus-2/
CATEGORIES:Seminar
END:VEVENT
BEGIN:VEVENT
DTSTART;TZID=UTC:20260428T100000
DTEND;TZID=UTC:20260428T100000
DTSTAMP:20260423T083724
CREATED:20260421T130507Z
LAST-MODIFIED:20260423T065722Z
UID:795-1777370400-1777370400@uus.eeel.ee
SUMMARY:RAIT webinar "Price It Right & Frame It Better"
DESCRIPTION:RAIT Group kutsub veebiseminarile\, mis käsitleb Balti riikide tarbimiskäitumist ning hinnastamise ja kommunikatsiooni mõju. Fookuses on see\, kuidas erinevad hinnastuse raamistikud ja sõnastused mõjutavad ostukäitumist ning milliseid järeldusi saavad ettevõtted sellest teha oma turundus- ja müügitegevustes. Veebiseminar toimub 28. aprillil kell 10.00. \nKorraldaja: RAIT Group \nRegistreerumine: us06web.zoom.us/webinar/register/WN_XoF01GX4Ttqbe9ZKVIN8GQLisainfo: www.raitgroup.com/
URL:https://uus.eeel.ee/syndmus/rait-webinar-price-it-right-frame-it-better-2/
CATEGORIES:Seminar
END:VEVENT
BEGIN:VEVENT
DTSTART;TZID=UTC:20260428T150000
DTEND;TZID=UTC:20260428T163000
DTSTAMP:20260423T083724
CREATED:20260421T130507Z
LAST-MODIFIED:20260423T065722Z
UID:796-1777388400-1777393800@uus.eeel.ee
SUMMARY:Tööinspektsiooni aastaraamatu tutvustus
DESCRIPTION:Tööohutuse ja töötervishoiu päeval kutsub Tööinspektsioon partnereid ja liitude esindajaid aastaraamatu tutvustusele. Kohtumisel antakse ülevaade 2025. aasta töökeskkonnast\, järelevalve tulemustest\, töövaidluste statistikast ning 2026. aasta plaanitavatest tegevustest ja suundadest. Üritust juhatab Tööinspektsiooni peadirektor Kaire Saarep. Toimumiskoht on Mäealuse 2/3\, Tallinn\, kell 15.00-16.30. \nKorraldaja: TööinspektsioonToimumiskoht: Tallinn\, Tööinspektsioon \nLisainfo: www.ti.ee/
URL:https://uus.eeel.ee/syndmus/tooinspektsiooni-aastaraamatu-tutvustus-2/
CATEGORIES:Seminar
END:VEVENT
BEGIN:VEVENT
DTSTART;TZID=UTC:20260514T000000
DTEND;TZID=UTC:20260515T000000
DTSTAMP:20260423T083724
CREATED:20260421T130507Z
LAST-MODIFIED:20260423T065723Z
UID:798-1778716800-1778803200@uus.eeel.ee
SUMMARY:Kaugkütte kevadseminar 2026
DESCRIPTION:Eesti Jõujaamade ja Kaugkütte Ühing kutsub kevadseminarile\, mille keskmes on energiasektori varustuskindlus\, toimepidevus\, kriisijuhtimine\, digijulgeolek ja süsteemide töökindlus. Seminaril käsitletakse ka kaugkütte valdkonna tehnoloogilisi arenguid\, energiajulgeolekut ning taastuvatele energiaallikatele tuginevate lahenduste rolli riskide maandamisel. Üritusel antakse üle värsked "Tõhus kaugküte" ja "Tõhus kaugjahutus" märgised. \nKorraldaja: Eesti Jõujaamade ja Kaugkütte Ühing \nLisainfo: epha.ee/kaugkutte-kevadseminar-toimub-14-15-mai-2026/
URL:https://uus.eeel.ee/syndmus/kaugkutte-kevadseminar-2026-2/
CATEGORIES:Seminar
END:VEVENT
END:VCALENDAR