BEGIN:VCALENDAR
VERSION:2.0
PRODID:-//Eesti Ehitusettevõtjate Liit - ECPv6.15.20//NONSGML v1.0//EN
CALSCALE:GREGORIAN
METHOD:PUBLISH
X-ORIGINAL-URL:https://uus.eeel.ee
X-WR-CALDESC:Events for Eesti Ehitusettevõtjate Liit
REFRESH-INTERVAL;VALUE=DURATION:PT1H
X-Robots-Tag:noindex
X-PUBLISHED-TTL:PT1H
BEGIN:VTIMEZONE
TZID:UTC
BEGIN:STANDARD
TZOFFSETFROM:+0000
TZOFFSETTO:+0000
TZNAME:UTC
DTSTART:20250101T000000
END:STANDARD
END:VTIMEZONE
BEGIN:VEVENT
DTSTART;TZID=UTC:20260422T000000
DTEND;TZID=UTC:20260422T000000
DTSTAMP:20260422T005846
CREATED:20260421T130507Z
LAST-MODIFIED:20260421T130507Z
UID:792-1776816000-1776816000@uus.eeel.ee
SUMMARY:EKVÜ koolituspäev "Praktikult praktikule"
DESCRIPTION:Eesti Kütte- ja Ventilatsiooniinseneride Ühing kutsub koolituspäevale\, mille eesmärk on tutvustada toetajaliikmete uudiseid ja põnevamaid tooteid. Päevakavas on ettekanded materjalide ja protsesside sisekliimast\, automaatikast ja pilvelahendustest\, tuleohutuse juhtimislahendustest\, soojuspumpade skeemidest ning eelisoleeritud torustike ja põrandakütte renoveerimislahendustest. Koolituse läbinutele on kooskõlastamisel 3\,15 TP keskkonnatehnika\, tehnosüsteemide inseneeria ja energiatõhususe kutsealadel. \nKorraldaja: Eesti Kütte- ja Ventilatsiooniinseneride Ühing (EKVÜ)Toimumiskoht: Tallinn\, Akadeemia tee 21/1 \nRegistreerumine: ekvy.ee/et/component/framework/event/register/create/194
URL:https://uus.eeel.ee/syndmus/ekvu-koolituspaev-praktikult-praktikule-2/
CATEGORIES:Koolitus
END:VEVENT
END:VCALENDAR