BEGIN:VCALENDAR
VERSION:2.0
PRODID:-//Eesti Ehitusettevõtjate Liit - ECPv6.15.20//NONSGML v1.0//EN
CALSCALE:GREGORIAN
METHOD:PUBLISH
X-WR-CALNAME:Eesti Ehitusettevõtjate Liit
X-ORIGINAL-URL:https://uus.eeel.ee
X-WR-CALDESC:Events for Eesti Ehitusettevõtjate Liit
REFRESH-INTERVAL;VALUE=DURATION:PT1H
X-Robots-Tag:noindex
X-PUBLISHED-TTL:PT1H
BEGIN:VTIMEZONE
TZID:UTC
BEGIN:STANDARD
TZOFFSETFROM:+0000
TZOFFSETTO:+0000
TZNAME:UTC
DTSTART:20250101T000000
END:STANDARD
END:VTIMEZONE
BEGIN:VEVENT
DTSTART;TZID=UTC:20260429T000000
DTEND;TZID=UTC:20260429T000000
DTSTAMP:20260423T083737
CREATED:20260421T130507Z
LAST-MODIFIED:20260423T065723Z
UID:797-1777420800-1777420800@uus.eeel.ee
SUMMARY:Kuhu liigub Eesti kinnisvaraturg?
DESCRIPTION:Eesti Kinnisvarafirmade Liit ja Bigbank korraldavad konverentsi\, kus keskendutakse Eesti kinnisvaraturu seisule\, värskeimatele trendidele ja valdkonna väljavaadetele. Hea võimalus saada ülevaade turu arengutest ning kuulata valdkonna ekspertide hinnanguid eluaseme- ja kinnisvarasektori lähiaja suundumustele. \nKorraldaja: Eesti Kinnisvarafirmade Liit koostöös Bigbankiga \nLisainfo ja registreerumine: www.ekfl.ee/eesti-kinnisvarafirmade-liidu-konverents-kuhu-liigub-eesti-kinnisvaraturg/
URL:https://uus.eeel.ee/syndmus/kuhu-liigub-eesti-kinnisvaraturg-2/
CATEGORIES:Konverents
END:VEVENT
END:VCALENDAR